BEGIN:VCALENDAR
VERSION:2.0
PRODID:DPCALENDAR
CALSCALE:GREGORIAN
BEGIN:VTIMEZONE
TZID:Australia/Melbourne
BEGIN:DAYLIGHT
DTSTART:20251004T160000
TZOFFSETFROM:+1000
TZOFFSETTO:+1100
TZNAME:AEDT
END:DAYLIGHT
BEGIN:DAYLIGHT
DTSTART:20261003T160000
TZOFFSETFROM:+1000
TZOFFSETTO:+1100
TZNAME:AEDT
END:DAYLIGHT
BEGIN:STANDARD
DTSTART:20260404T160000
TZOFFSETFROM:+1100
TZOFFSETTO:+1000
TZNAME:AEST
END:STANDARD
END:VTIMEZONE
X-WR-TIMEZONE:Australia/Melbourne
BEGIN:VEVENT
DTSTART;TZID=Australia/Melbourne:20201019T080000
DTEND;TZID=Australia/Melbourne:20201019T133000
UID:9B05E496-6774-4D06-85B7-733026BDF5B6
SUMMARY:19 October Morning Session
CREATED:20201018T035735Z
DTSTAMP:20201018T035735Z
URL:https://pdarcs.com.au/index.php/component/dpcalendar/event/240?calid=55
LAST-MODIFIED:20201018T082556Z
SEQUENCE:16101
X-ACCESS:1
X-HITS:69
X-COLOR:f05030
X-SHOW-END-TIME:1
END:VEVENT
BEGIN:VEVENT
DTSTART;TZID=Australia/Melbourne:20201019T133000
DTEND;TZID=Australia/Melbourne:20201019T193000
UID:22001379-C6D4-4F6A-93C7-AF26565C5F7A
SUMMARY:19 October Afternoon Session
CREATED:20201018T035735Z
DTSTAMP:20201018T035735Z
URL:https://pdarcs.com.au/index.php/component/dpcalendar/event/241?calid=55
LAST-MODIFIED:20201018T081415Z
SEQUENCE:15400
X-ACCESS:1
X-HITS:73
X-COLOR:f05030
X-SHOW-END-TIME:1
END:VEVENT
BEGIN:VEVENT
DTSTART;TZID=Australia/Melbourne:20201020T080000
DTEND;TZID=Australia/Melbourne:20201020T133000
UID:8CF97D0E-6F60-492B-91E8-897ADA24B620
SUMMARY:20 October Morning Session
CREATED:20201018T035735Z
DTSTAMP:20201018T035735Z
URL:https://pdarcs.com.au/index.php/component/dpcalendar/event/242?calid=55
LAST-MODIFIED:20201018T082754Z
SEQUENCE:16219
X-ACCESS:1
X-HITS:103
X-COLOR:f05030
X-SHOW-END-TIME:1
X-PUBLISH-UP:2020-10-18 09:00:00
END:VEVENT
BEGIN:VEVENT
DTSTART;TZID=Australia/Melbourne:20201020T133000
DTEND;TZID=Australia/Melbourne:20201020T193000
UID:C72FFDD1-C7F3-4325-BE11-ABABA5D82AE4
SUMMARY:20 October Afternoon Session
CREATED:20201018T035735Z
DTSTAMP:20201018T035735Z
URL:https://pdarcs.com.au/index.php/component/dpcalendar/event/243?calid=55
LAST-MODIFIED:20201018T082828Z
SEQUENCE:16253
X-ACCESS:1
X-HITS:93
X-COLOR:f05030
X-SHOW-END-TIME:1
X-PUBLISH-UP:2020-10-18 09:00:00
END:VEVENT
BEGIN:VEVENT
DTSTART;TZID=Australia/Melbourne:20201021T080000
DTEND;TZID=Australia/Melbourne:20201021T133000
UID:3F1456BB-FF0F-46DC-BE0A-DB277B64513F
SUMMARY:21 October Morning Session
CREATED:20201018T035735Z
DTSTAMP:20201018T035735Z
URL:https://pdarcs.com.au/index.php/component/dpcalendar/event/244?calid=55
LAST-MODIFIED:20201018T082754Z
SEQUENCE:16219
X-ACCESS:1
X-HITS:77
X-COLOR:f05030
X-SHOW-END-TIME:1
X-PUBLISH-UP:2020-10-19 09:00:00
END:VEVENT
BEGIN:VEVENT
DTSTART;TZID=Australia/Melbourne:20201021T133000
DTEND;TZID=Australia/Melbourne:20201021T193000
UID:01A6A3B2-F880-4448-99B7-736472EB7697
SUMMARY:21 October Afternoon Session
CREATED:20201018T035735Z
DTSTAMP:20201018T035735Z
URL:https://pdarcs.com.au/index.php/component/dpcalendar/event/245?calid=55
LAST-MODIFIED:20201018T082828Z
SEQUENCE:16253
X-ACCESS:1
X-HITS:77
X-COLOR:f05030
X-SHOW-END-TIME:1
X-PUBLISH-UP:2020-10-19 09:00:00
END:VEVENT
BEGIN:VEVENT
DTSTART;TZID=Australia/Melbourne:20201022T080000
DTEND;TZID=Australia/Melbourne:20201022T133000
UID:BAC750C8-DEE1-4E68-9EC3-0CA173AF9066
SUMMARY:22 October Morning Session
CREATED:20201018T035735Z
DTSTAMP:20201018T035735Z
URL:https://pdarcs.com.au/index.php/component/dpcalendar/event/246?calid=55
LAST-MODIFIED:20201018T082754Z
SEQUENCE:16219
X-ACCESS:1
X-HITS:62
X-COLOR:f05030
X-SHOW-END-TIME:1
X-PUBLISH-UP:2020-10-20 09:00:00
END:VEVENT
BEGIN:VEVENT
DTSTART;TZID=Australia/Melbourne:20201022T133000
DTEND;TZID=Australia/Melbourne:20201022T193000
UID:5FA7AD7C-C3A9-4C8E-A215-5A4A0DD1BED4
SUMMARY:22 October Afternoon Session
CREATED:20201018T035735Z
DTSTAMP:20201018T035735Z
URL:https://pdarcs.com.au/index.php/component/dpcalendar/event/247?calid=55
LAST-MODIFIED:20201018T082828Z
SEQUENCE:16253
X-ACCESS:1
X-HITS:61
X-COLOR:f05030
X-SHOW-END-TIME:1
X-PUBLISH-UP:2020-10-20 09:00:00
END:VEVENT
BEGIN:VEVENT
DTSTART;TZID=Australia/Melbourne:20201023T080000
DTEND;TZID=Australia/Melbourne:20201023T133000
UID:ED1DEA25-4395-4E7F-90A1-3CA136F5B0EA
SUMMARY:23 October Morning Session
CREATED:20201018T035735Z
DTSTAMP:20201018T035735Z
URL:https://pdarcs.com.au/index.php/component/dpcalendar/event/248?calid=55
LAST-MODIFIED:20201018T082754Z
SEQUENCE:16219
X-ACCESS:1
X-HITS:67
X-COLOR:f05030
X-SHOW-END-TIME:1
X-PUBLISH-UP:2020-10-21 09:00:00
END:VEVENT
BEGIN:VEVENT
DTSTART;TZID=Australia/Melbourne:20201023T133000
DTEND;TZID=Australia/Melbourne:20201023T193000
UID:896932FE-035A-4BEE-AD15-518F74631DFB
SUMMARY:23 October Afternoon Session
CREATED:20201018T035735Z
DTSTAMP:20201018T035735Z
URL:https://pdarcs.com.au/index.php/component/dpcalendar/event/249?calid=55
LAST-MODIFIED:20201018T082828Z
SEQUENCE:16253
X-ACCESS:1
X-HITS:82
X-COLOR:f05030
X-SHOW-END-TIME:1
X-PUBLISH-UP:2020-10-21 09:00:00
END:VEVENT
BEGIN:VEVENT
DTSTART;TZID=Australia/Melbourne:20201024T080000
DTEND;TZID=Australia/Melbourne:20201024T133000
UID:A93A9209-521E-4F5A-A627-2D1C48B384ED
SUMMARY:24 October Morning Session
CREATED:20201018T035735Z
DTSTAMP:20201018T035735Z
URL:https://pdarcs.com.au/index.php/component/dpcalendar/event/250?calid=55
LAST-MODIFIED:20201018T082754Z
SEQUENCE:16219
X-ACCESS:1
X-HITS:73
X-COLOR:f05030
X-SHOW-END-TIME:1
X-PUBLISH-UP:2020-10-22 09:00:00
END:VEVENT
BEGIN:VEVENT
DTSTART;TZID=Australia/Melbourne:20201024T133000
DTEND;TZID=Australia/Melbourne:20201024T193000
UID:9FB4AFC9-39CE-4931-9C98-517E85A86EAD
SUMMARY:24 October Afternoon Session
CREATED:20201018T035735Z
DTSTAMP:20201018T035735Z
URL:https://pdarcs.com.au/index.php/component/dpcalendar/event/251?calid=55
LAST-MODIFIED:20201018T082828Z
SEQUENCE:16253
X-ACCESS:1
X-HITS:77
X-COLOR:f05030
X-SHOW-END-TIME:1
X-PUBLISH-UP:2020-10-22 09:00:00
END:VEVENT
BEGIN:VEVENT
DTSTART;TZID=Australia/Melbourne:20201025T080000
DTEND;TZID=Australia/Melbourne:20201025T133000
UID:D3D8E3EC-C275-4FD3-82FF-E9B7E04F03E8
SUMMARY:25 October Morning Session
CREATED:20201018T035735Z
DTSTAMP:20201018T035735Z
URL:https://pdarcs.com.au/index.php/component/dpcalendar/event/252?calid=55
LAST-MODIFIED:20201018T082754Z
SEQUENCE:16219
X-ACCESS:1
X-HITS:43
X-COLOR:f05030
X-SHOW-END-TIME:1
X-PUBLISH-UP:2020-10-23 09:00:00
END:VEVENT
BEGIN:VEVENT
DTSTART;TZID=Australia/Melbourne:20201025T133000
DTEND;TZID=Australia/Melbourne:20201025T193000
UID:AB799600-618E-4D96-AD83-DFDBA45A386F
SUMMARY:25 October Afternoon Session
CREATED:20201018T035735Z
DTSTAMP:20201018T035735Z
URL:https://pdarcs.com.au/index.php/component/dpcalendar/event/253?calid=55
LAST-MODIFIED:20201018T082828Z
SEQUENCE:16253
X-ACCESS:1
X-HITS:61
X-COLOR:f05030
X-SHOW-END-TIME:1
X-PUBLISH-UP:2020-10-23 09:00:00
END:VEVENT
BEGIN:VEVENT
DTSTART;TZID=Australia/Melbourne:20201026T080000
DTEND;TZID=Australia/Melbourne:20201026T133000
UID:B89DB652-8018-4FCF-8E9B-80AEC5B07FDC
SUMMARY:26 October Morning Session
CREATED:20201018T035735Z
DTSTAMP:20201018T035735Z
URL:https://pdarcs.com.au/index.php/component/dpcalendar/event/254?calid=55
LAST-MODIFIED:20201018T082754Z
SEQUENCE:16219
X-ACCESS:1
X-HITS:27
X-COLOR:f05030
X-SHOW-END-TIME:1
X-PUBLISH-UP:2020-10-24 09:00:00
END:VEVENT
BEGIN:VEVENT
DTSTART;TZID=Australia/Melbourne:20201026T133000
DTEND;TZID=Australia/Melbourne:20201026T193000
UID:28D68163-9DD8-49BE-AD5E-0EEA768A3670
SUMMARY:26 October Afternoon Session
CREATED:20201018T035735Z
DTSTAMP:20201018T035735Z
URL:https://pdarcs.com.au/index.php/component/dpcalendar/event/255?calid=55
LAST-MODIFIED:20201018T082828Z
SEQUENCE:16253
X-ACCESS:1
X-HITS:28
X-COLOR:f05030
X-SHOW-END-TIME:1
X-PUBLISH-UP:2020-10-24 09:00:00
END:VEVENT
BEGIN:VEVENT
DTSTART;TZID=Australia/Melbourne:20201027T080000
DTEND;TZID=Australia/Melbourne:20201027T133000
UID:FC6BF3BA-3471-46DF-976B-8AA769D4D3EE
SUMMARY:27 October Morning Session
CREATED:20201018T035735Z
DTSTAMP:20201018T035735Z
URL:https://pdarcs.com.au/index.php/component/dpcalendar/event/256?calid=55
LAST-MODIFIED:20201018T082754Z
SEQUENCE:16219
X-ACCESS:1
X-HITS:32
X-COLOR:f05030
X-SHOW-END-TIME:1
X-PUBLISH-UP:2020-10-25 09:00:00
END:VEVENT
BEGIN:VEVENT
DTSTART;TZID=Australia/Melbourne:20201027T133000
DTEND;TZID=Australia/Melbourne:20201027T193000
UID:F6EF662A-5054-43B9-9098-B25C8AC8195D
SUMMARY:27 October Afternoon Session
CREATED:20201018T035735Z
DTSTAMP:20201018T035735Z
URL:https://pdarcs.com.au/index.php/component/dpcalendar/event/257?calid=55
LAST-MODIFIED:20201018T082828Z
SEQUENCE:16253
X-ACCESS:1
X-HITS:33
X-COLOR:f05030
X-SHOW-END-TIME:1
X-PUBLISH-UP:2020-10-25 09:00:00
END:VEVENT
BEGIN:VEVENT
DTSTART;TZID=Australia/Melbourne:20201028T080000
DTEND;TZID=Australia/Melbourne:20201028T133000
UID:62520411-46F8-4EBB-AE18-17CF4C2284B0
SUMMARY:28 October Morning Session
CREATED:20201018T035735Z
DTSTAMP:20201018T035735Z
URL:https://pdarcs.com.au/index.php/component/dpcalendar/event/258?calid=55
LAST-MODIFIED:20201018T082754Z
SEQUENCE:16219
X-ACCESS:1
X-HITS:48
X-COLOR:f05030
X-SHOW-END-TIME:1
X-PUBLISH-UP:2020-10-26 09:00:00
END:VEVENT
BEGIN:VEVENT
DTSTART;TZID=Australia/Melbourne:20201028T133000
DTEND;TZID=Australia/Melbourne:20201028T193000
UID:46B978A5-BADE-4B7C-A8A5-E234C2A907DB
SUMMARY:28 October Afternoon Session
CREATED:20201018T035735Z
DTSTAMP:20201018T035735Z
URL:https://pdarcs.com.au/index.php/component/dpcalendar/event/259?calid=55
LAST-MODIFIED:20201018T082828Z
SEQUENCE:16253
X-ACCESS:1
X-HITS:44
X-COLOR:f05030
X-SHOW-END-TIME:1
X-PUBLISH-UP:2020-10-26 09:00:00
END:VEVENT
BEGIN:VEVENT
DTSTART;TZID=Australia/Melbourne:20201029T080000
DTEND;TZID=Australia/Melbourne:20201029T133000
UID:EF9548F4-096D-4969-AC88-14277A1BAD78
SUMMARY:29 October Morning Session
CREATED:20201018T035735Z
DTSTAMP:20201018T035735Z
URL:https://pdarcs.com.au/index.php/component/dpcalendar/event/260?calid=55
LAST-MODIFIED:20201018T082754Z
SEQUENCE:16219
X-ACCESS:1
X-HITS:63
X-COLOR:f05030
X-SHOW-END-TIME:1
X-PUBLISH-UP:2020-10-27 09:00:00
END:VEVENT
BEGIN:VEVENT
DTSTART;TZID=Australia/Melbourne:20201029T133000
DTEND;TZID=Australia/Melbourne:20201029T193000
UID:CD9BBA6D-55D6-4D83-BA1B-3798AC671F0F
SUMMARY:29 October Afternoon Session
CREATED:20201018T035735Z
DTSTAMP:20201018T035735Z
URL:https://pdarcs.com.au/index.php/component/dpcalendar/event/261?calid=55
LAST-MODIFIED:20201018T082828Z
SEQUENCE:16253
X-ACCESS:1
X-HITS:57
X-COLOR:f05030
X-SHOW-END-TIME:1
X-PUBLISH-UP:2020-10-27 09:00:00
END:VEVENT
BEGIN:VEVENT
DTSTART;TZID=Australia/Melbourne:20201030T080000
DTEND;TZID=Australia/Melbourne:20201030T133000
UID:58FE88E6-0C42-417D-BA7C-E39D3FD8926C
SUMMARY:30 October Morning Session
CREATED:20201018T035735Z
DTSTAMP:20201018T035735Z
URL:https://pdarcs.com.au/index.php/component/dpcalendar/event/262?calid=55
LAST-MODIFIED:20201018T082754Z
SEQUENCE:16219
X-ACCESS:1
X-HITS:46
X-COLOR:f05030
X-SHOW-END-TIME:1
X-PUBLISH-UP:2020-10-28 09:00:00
END:VEVENT
BEGIN:VEVENT
DTSTART;TZID=Australia/Melbourne:20201030T133000
DTEND;TZID=Australia/Melbourne:20201030T193000
UID:FC6BD77F-28F6-4391-AA68-7F37FC85F004
SUMMARY:30 October Afternoon Session
CREATED:20201018T035735Z
DTSTAMP:20201018T035735Z
URL:https://pdarcs.com.au/index.php/component/dpcalendar/event/263?calid=55
LAST-MODIFIED:20201018T082828Z
SEQUENCE:16253
X-ACCESS:1
X-HITS:46
X-COLOR:f05030
X-SHOW-END-TIME:1
X-PUBLISH-UP:2020-10-28 09:00:00
END:VEVENT
BEGIN:VEVENT
DTSTART;TZID=Australia/Melbourne:20201031T080000
DTEND;TZID=Australia/Melbourne:20201031T133000
UID:C0F4B05A-8F27-4909-A5B3-6D7BB8FEDC81
SUMMARY:31 October Morning Session
CREATED:20201018T035735Z
DTSTAMP:20201018T035735Z
URL:https://pdarcs.com.au/index.php/component/dpcalendar/event/264?calid=55
LAST-MODIFIED:20201018T082754Z
SEQUENCE:16219
X-ACCESS:1
X-HITS:49
X-COLOR:f05030
X-SHOW-END-TIME:1
X-PUBLISH-UP:2020-10-29 09:00:00
END:VEVENT
BEGIN:VEVENT
DTSTART;TZID=Australia/Melbourne:20201031T133000
DTEND;TZID=Australia/Melbourne:20201031T193000
UID:E366FB0A-15B9-4C9D-9BFA-07C5D5C89D47
SUMMARY:31 October Afternoon Session
CREATED:20201018T035735Z
DTSTAMP:20201018T035735Z
URL:https://pdarcs.com.au/index.php/component/dpcalendar/event/265?calid=55
LAST-MODIFIED:20201018T082828Z
SEQUENCE:16253
X-ACCESS:1
X-HITS:56
X-COLOR:f05030
X-SHOW-END-TIME:1
X-PUBLISH-UP:2020-10-29 09:00:00
END:VEVENT
BEGIN:VEVENT
DTSTART;TZID=Australia/Melbourne:20201101T080000
DTEND;TZID=Australia/Melbourne:20201101T133000
UID:DC0031FD-6382-4F69-9E83-DE5B4BE1FAC6
SUMMARY:1 November Morning Session
CREATED:20201018T035735Z
DTSTAMP:20201018T035735Z
URL:https://pdarcs.com.au/index.php/component/dpcalendar/event/266?calid=55
LAST-MODIFIED:20201018T082754Z
SEQUENCE:16219
X-ACCESS:1
X-HITS:63
X-COLOR:f05030
X-SHOW-END-TIME:1
X-PUBLISH-UP:2020-10-30 09:00:00
END:VEVENT
BEGIN:VEVENT
DTSTART;TZID=Australia/Melbourne:20201101T133000
DTEND;TZID=Australia/Melbourne:20201101T193000
UID:52A2C9EE-234C-4A2F-851B-C437207D4B92
SUMMARY:1 November Afternoon Session
CREATED:20201018T035735Z
DTSTAMP:20201018T035735Z
URL:https://pdarcs.com.au/index.php/component/dpcalendar/event/267?calid=55
LAST-MODIFIED:20201018T082828Z
SEQUENCE:16253
X-ACCESS:1
X-HITS:129
X-COLOR:f05030
X-SHOW-END-TIME:1
X-PUBLISH-UP:2020-10-30 09:00:00
END:VEVENT
BEGIN:VEVENT
DTSTART;TZID=Australia/Melbourne:20201102T080000
DTEND;TZID=Australia/Melbourne:20201102T133000
UID:B59C9E32-7C4D-4658-BF6F-16017C7311D2
SUMMARY:2 November Morning Session
CREATED:20201018T035735Z
DTSTAMP:20201018T035735Z
URL:https://pdarcs.com.au/index.php/component/dpcalendar/event/268?calid=55
LAST-MODIFIED:20201018T082754Z
SEQUENCE:16219
X-ACCESS:1
X-HITS:29
X-COLOR:f05030
X-SHOW-END-TIME:1
X-PUBLISH-UP:2020-10-31 09:00:00
END:VEVENT
BEGIN:VEVENT
DTSTART;TZID=Australia/Melbourne:20201102T133000
DTEND;TZID=Australia/Melbourne:20201102T193000
UID:F50A5D40-6C26-41EC-9C33-104A1F94C85D
SUMMARY:2 November Afternoon Session
CREATED:20201018T035735Z
DTSTAMP:20201018T035735Z
URL:https://pdarcs.com.au/index.php/component/dpcalendar/event/269?calid=55
LAST-MODIFIED:20201018T082828Z
SEQUENCE:16253
X-ACCESS:1
X-HITS:49
X-COLOR:f05030
X-SHOW-END-TIME:1
X-PUBLISH-UP:2020-10-31 09:00:00
END:VEVENT
BEGIN:VEVENT
DTSTART;TZID=Australia/Melbourne:20201103T080000
DTEND;TZID=Australia/Melbourne:20201103T133000
UID:AF6DC718-2567-4B84-B388-BACA3FD48773
SUMMARY:3 November Morning Session
CREATED:20201018T035735Z
DTSTAMP:20201018T035735Z
URL:https://pdarcs.com.au/index.php/component/dpcalendar/event/270?calid=55
LAST-MODIFIED:20201018T082754Z
SEQUENCE:16219
X-ACCESS:1
X-HITS:2
X-COLOR:f05030
X-SHOW-END-TIME:1
X-PUBLISH-UP:2020-11-01 09:00:00
END:VEVENT
BEGIN:VEVENT
DTSTART;TZID=Australia/Melbourne:20201103T133000
DTEND;TZID=Australia/Melbourne:20201103T193000
UID:7F4C2E6C-187D-4BB8-85F7-07D0F4BE1568
SUMMARY:3 November Afternoon Session
CREATED:20201018T035735Z
DTSTAMP:20201018T035735Z
URL:https://pdarcs.com.au/index.php/component/dpcalendar/event/271?calid=55
LAST-MODIFIED:20201018T082828Z
SEQUENCE:16253
X-ACCESS:1
X-HITS:2
X-COLOR:f05030
X-SHOW-END-TIME:1
X-PUBLISH-UP:2020-11-01 09:00:00
END:VEVENT
END:VCALENDAR